BEGIN:VCALENDAR
VERSION:2.0
PRODID:-//EOSC synergy - ECPv6.0.9//NONSGML v1.0//EN
CALSCALE:GREGORIAN
METHOD:PUBLISH
X-WR-CALNAME:EOSC synergy
X-ORIGINAL-URL:https://www.eosc-synergy.eu
X-WR-CALDESC:Events for EOSC synergy
REFRESH-INTERVAL;VALUE=DURATION:PT1H
X-Robots-Tag:noindex
X-PUBLISHED-TTL:PT1H
BEGIN:VTIMEZONE
TZID:Europe/Madrid
BEGIN:DAYLIGHT
TZOFFSETFROM:+0100
TZOFFSETTO:+0200
TZNAME:CEST
DTSTART:20190331T010000
END:DAYLIGHT
BEGIN:STANDARD
TZOFFSETFROM:+0200
TZOFFSETTO:+0100
TZNAME:CET
DTSTART:20191027T010000
END:STANDARD
BEGIN:DAYLIGHT
TZOFFSETFROM:+0100
TZOFFSETTO:+0200
TZNAME:CEST
DTSTART:20200329T010000
END:DAYLIGHT
BEGIN:STANDARD
TZOFFSETFROM:+0200
TZOFFSETTO:+0100
TZNAME:CET
DTSTART:20201025T010000
END:STANDARD
BEGIN:DAYLIGHT
TZOFFSETFROM:+0100
TZOFFSETTO:+0200
TZNAME:CEST
DTSTART:20210328T010000
END:DAYLIGHT
BEGIN:STANDARD
TZOFFSETFROM:+0200
TZOFFSETTO:+0100
TZNAME:CET
DTSTART:20211031T010000
END:STANDARD
END:VTIMEZONE
BEGIN:VEVENT
DTSTART;TZID=Europe/Madrid:20210928T153000
DTEND;TZID=Europe/Madrid:20210928T170000
DTSTAMP:20260425T152844
CREATED:20210908T101918Z
LAST-MODIFIED:20220331T181734Z
UID:1226-1632843000-1632848400@www.eosc-synergy.eu
SUMMARY:Mark your calendar for the "From Here to EOSC" workshop on the 28th September
DESCRIPTION:The European Open Science Cloud (EOSC) is a hot topic in today’s science world\, and national governments are taking more and more steps towards the concept of Open Science. This includes the Dutch government\, that has started to monitor the progress and barriers concerning the Dutch data infrastructure and related facilities\, which will be presented and discussed during the “From Here to EOSC” workshop organised by DANS in collaboration with the EOSC Synergy project. \nThe workshop that is organised will feature several speakers providing short updates followed by an interactive session using interactive polling. \nList of speakers: \n\n\nLudek Matyska (Institute of Computer Science\, Masaryk University\, Brno\, Czech Republic) will briefly introduce the EOSC ambitions and provide some background on the gaps between “dream” and “deed”. \n\n\nValentino Cavalli (Strategy and Innovation Officer\, EGI) will reflect on the EOSC maturity and readiness on the basis of landscape analyses in seven countries. \n\n\nPeter Doorn (Senior researcher and scientific advisor\, DANS) will provide an update of the situation in the Netherlands with respect to Open Science and Open Data\, presenting a “dashboard” to monitor the progress. \n\n\nMaurice Bouwhuis (Open Science – Research & ICT\, SURF) on the NPOS (National Programme Open Science) and the collaboration between SURF and DANS. \n\n\nEllen Leenarts (Research Data Management Specialist\, DANS) on the EOSC Association Task Force “Upskilling countries to engage in EOSC”. \n\n\nDo you as a researcher\, policy maker or service provider know where we stand and want to provide your insights? Register now by clicking here.
URL:https://www.eosc-synergy.eu/event/mark-your-calendar-for-the-from-here-to-eosc-workshop-on-the-28th-september/
ATTACH;FMTTYPE=image/png:https://www.eosc-synergy.eu/wp-content/uploads/DANSWebinarsserie5.png
END:VEVENT
BEGIN:VEVENT
DTSTART;TZID=Europe/Madrid:20191011T110000
DTEND;TZID=Europe/Madrid:20191011T120000
DTSTAMP:20260425T152844
CREATED:20191008T083929Z
LAST-MODIFIED:20220331T182637Z
UID:335-1570791600-1570795200@www.eosc-synergy.eu
SUMMARY:Webinar: Coming together to map the national landscape analysis on EOSC
DESCRIPTION:The launch of the projects EOSC-Pillar\, EOSC Synergy\, EOSC Nordic\, and NI4OS-Europe – marks an important milestone for the development of the European Open Science Cloud as it further connects national initiatives\, policies\, infrastructures\, services\, and people to the EOSC. The projects make for a stronger voice in Europe and this webinar will be the first of many mutual synergies and engaged activities that will be carried out over the coming months. \nWhen\nFriday\, 11 October 2019\, 11:00 – 12:00. \nWho should attend​​\n\nEOSC Member State representatives\nThose working on EOSC-related initiatives\nResearch infrastructures\, scientific communities\, repository managers\, universities\, researchers\, and industry interested in learning what these regional projects and the EOSC can do for them\n\nKey takeaways\n\nDiscover new opportunities with these new funded regional projects\nGet to know the regional projects and what they will contribute to the EOSC\nSee the innovative services they plan to bring include in the EOSC\nUnderstand the national support that the EOSC has through these projects\nSee how each projects will approach landscaping within their respective regions\nGet in touch with the people behind the projects\n\nWebinar information and registration.
URL:https://www.eosc-synergy.eu/event/webinar-coming-together-to-map-the-national-landscape-analysis-on-eosc/
ATTACH;FMTTYPE=image/png:https://www.eosc-synergy.eu/wp-content/uploads/logo-color-texto.png
END:VEVENT
BEGIN:VEVENT
DTSTART;TZID=Europe/Madrid:20190923T080100
DTEND;TZID=Europe/Madrid:20190926T170000
DTSTAMP:20260425T152844
CREATED:20190710T153058Z
LAST-MODIFIED:20220401T210846Z
UID:37-1569225660-1569517200@www.eosc-synergy.eu
SUMMARY:Ibergrid 2019
DESCRIPTION:The 10th Iberian Grid Conference will take place in Santiago de Compostela\, from Monday 23rd to Thursday 26th of September. \nThe call for abstract is open (extended deadline: 7th of July). \nAll the contributions will have the opportunity to be published as Conference Proceedings. After the conference\, accepted contributions will be invited to submit a full manuscript describing the content of the oral presentation or poster. The manuscripts will go through a peer review process. \nStudents and Early Career researchers (Master and PhD. students) will have the fee waived upon the presentation of the official Master of PhD. registration status. On request\, a certificate stating the presentation of the oral contribution or poster will also be provided. \nFor more information contact: ibergrid2019@lip.pt.
URL:https://www.eosc-synergy.eu/event/evento-1-con-el-titulo-que-sea/
LOCATION:Santiago de Compostela\, Santiago de Compostela\, Coruña\, Spain
ATTACH;FMTTYPE=image/png:https://www.eosc-synergy.eu/wp-content/uploads/cartel2_3.svg_.png
END:VEVENT
BEGIN:VEVENT
DTSTART;TZID=Europe/Madrid:20190923T080000
DTEND;TZID=Europe/Madrid:20190926T170000
DTSTAMP:20260425T152844
CREATED:20190801T072755Z
LAST-MODIFIED:20220331T234204Z
UID:56-1569225600-1569517200@www.eosc-synergy.eu
SUMMARY:EOSC Synergy kicks off in Santiago de Compostela
DESCRIPTION:EOSC Synergy kicks off in Santiago de Compostela.\n\nEOSC Synergy will contribute to the European Open Science Cloud landscape by expanding the capacities and building the capabilities of EOSC. In practice this will mean more compute and storage available to researchers\, and more datasets and tools to expand avenues of research.\n\nIn the upcoming 3 years\, EOSC Synergy will be the H2020 instrument to promote the implementation and adoption of EOSC services by scientific users in the countries involved in the consortium.\n\nThe ultimate goal is to build EOSC as a coordinated effort\, as an open environment for scientific data and related processing that promotes convergence of infrastructures and scientific thematic services provided at national or European level.\n\nThe project is coordinated by IBERGRID\, the Iberian scientific and technological cooperation framework signed by Spain and Portugal on distributed computing.\n\nMore information on the event.
URL:https://www.eosc-synergy.eu/event/test/
LOCATION:Santiago de Compostela\, Santiago de Compostela\, Coruña\, Spain
ATTACH;FMTTYPE=image/gif:https://www.eosc-synergy.eu/wp-content/uploads/gif-eosc.gif
END:VEVENT
END:VCALENDAR