BEGIN:VCALENDAR
VERSION:2.0
PRODID:-//EOSC synergy - ECPv6.0.9//NONSGML v1.0//EN
CALSCALE:GREGORIAN
METHOD:PUBLISH
X-WR-CALNAME:EOSC synergy
X-ORIGINAL-URL:https://www.eosc-synergy.eu
X-WR-CALDESC:Events for EOSC synergy
REFRESH-INTERVAL;VALUE=DURATION:PT1H
X-Robots-Tag:noindex
X-PUBLISHED-TTL:PT1H
BEGIN:VTIMEZONE
TZID:Europe/Madrid
BEGIN:DAYLIGHT
TZOFFSETFROM:+0100
TZOFFSETTO:+0200
TZNAME:CEST
DTSTART:20210328T010000
END:DAYLIGHT
BEGIN:STANDARD
TZOFFSETFROM:+0200
TZOFFSETTO:+0100
TZNAME:CET
DTSTART:20211031T010000
END:STANDARD
BEGIN:DAYLIGHT
TZOFFSETFROM:+0100
TZOFFSETTO:+0200
TZNAME:CEST
DTSTART:20220327T010000
END:DAYLIGHT
BEGIN:STANDARD
TZOFFSETFROM:+0200
TZOFFSETTO:+0100
TZNAME:CET
DTSTART:20221030T010000
END:STANDARD
END:VTIMEZONE
BEGIN:VEVENT
DTSTART;TZID=Europe/Madrid:20211110T090000
DTEND;TZID=Europe/Madrid:20211112T180000
DTSTAMP:20260425T165306
CREATED:20211015T105345Z
LAST-MODIFIED:20220331T181615Z
UID:1234-1636534800-1636740000@www.eosc-synergy.eu
SUMMARY:F2F Meeting\, 10th-12th of November 2021
DESCRIPTION:EOSC Synergy – F2F Meeting Madrid \nThe project plans to hold a F2F meeting on November 10\, 11 and 12 in Madrid at the CSIC headquarters. \nThe objective of the meeting is to discuss the practical implementation and developments of the project\, so an informal atmosphere for discussions is expected. \nThose who are willing to participate\, please contact your working group leader as soon as possible\, as we have to organize room occupancy\, etc. \nWe expect those attending to be vaccinated against COVID\, or to present proof of a negative test upon arrival\, in accordance with the requirements for travel in Europe these days. \n  \nDate: 10th-12th of November 2021 \nAgenda: https://indico.ifca.es/event/2354/overview \nRegistration: https://indico.ifca.es/event/2354/registrations \n  \nLocation: C\ Pinar 25 (Campus del CSIC) \nCity: Madrid (Spain) \n  \n \n  \nGoogle Maps: https://www.google.es/maps/place/C.+del+Maestro+Ripoll\,+14\,+28006+Madrid/@40.4424109\,-3.6880484\,17z/data=!4m13!1m7!3m6!1s0xd4228ef242f58cb:0x8f9f2f9482135876!2sC.+del+Pinar\,+25\,+28006+Madrid!3b1!8m2!3d40.441676!4d-3.688499!3m4!1s0xd4228ef7062e3fb:0x447f66573f1a4531!8m2!3d40.4431015!4d-3.6896816 \n  \nHow to get there: \n\nBus (EMT): 147\, 16\, 27\, 51\, C2\nTrain (Cercanias): C1\, C10\, C4A\, C7\nSubway (Metro): M-10\, M-6\, M-8\n\n  \n 
URL:https://www.eosc-synergy.eu/event/f2f-meeting-10th-12th-of-november-2021/
LOCATION:madrid\, Calle pinar 25\, Madrid\, Comunidad de Madrid\, Spain
ATTACH;FMTTYPE=image/jpeg:https://www.eosc-synergy.eu/wp-content/uploads/Edificio_central_del_CSIC-scaled.jpg
END:VEVENT
BEGIN:VEVENT
DTSTART;TZID=Europe/Madrid:20220504T000000
DTEND;TZID=Europe/Madrid:20220504T235900
DTSTAMP:20260425T165306
CREATED:20220331T155943Z
LAST-MODIFIED:20220331T183544Z
UID:2221-1651622400-1651708740@www.eosc-synergy.eu
SUMMARY:Workshop on National Policies relevant to EOSC deployment
DESCRIPTION:EOSC Synergy\, together with EOSC Pillar\, EOSC Nordic\, ExPaNDS\, NI4OS\, EOSC Future and FAIRsFAIR\, invites you to the in-person workshop “National Policies relevant to EOSC deployment – Status\, gaps\, and steps towards harmonisation’\, to be organised in Strasbourg\, France on May 4th\, 2022. During the workshop\, we will present the findings of the regional EOSC projects on national open science\, funding\, and access provisioning policies. \n\n\n\nAs this is the first in-person workshop organised in a very long time\, we expect high interest. As places are limited\, make sure to register in time. An option for remote participation is available\, to be indicated at registration. The exact programme and speakers will be announced shortly on the event indico page\, but we can already share the overarching themes and sessions this workshop will consist of: \n\n\n\nOpen Science/EOSC National Policies \n\n\n\nThis session focuses on the presentation of findings from the EOSC regional projects on the status of national Open Science Cloud and EOSC policies in the regions concerned\, Countries in different regions have different approaches and are progressing at different pace. The workshop will discuss differences and gaps\, with the view that these make the implementation more complicated\, it will aim to increase understanding of the different policies/approaches and suggest recommendations and steps that can be taken to support a successful EOSC implementation and uptake. \n\n\n\nFunding policies \n\n\n\nThis session focuses on the presentation of findings from the EOSC regional projects with respect to funding policies in the regions concerned. It will include presentations of successful business models and viable funding schemes at the institutional\, national\, or regional and international level. It will address the shortage of coherent and stable funding policies\, discuss differences and gaps\, and it will suggest recommendations and steps that can be taken to foster better alignment of funding policies nationally and internationally. \n\n\n\nAccess Provisioning Policies \n\n\n\nThis session focuses on the presentation of findings from the EOSC regional projects with respect to access provisioning policies in the regions concerned. Specific aspects to be considered will be related to EuroHPC and cross-border resources provisioning\, cross-border collaboration\, and conditions for transnational access; however\, access will also be considered in terms of sustainability\, from the user point of view and the availability of skills and capacity building. The findings and recommendations will look at the applicable scope (national/cross-border) and the profile of service policies (how\, where they are provided\, to which users and under which conditions) for access. \n\n  \n\nProgramme:\n\n\n\nprogramme details and speakers will be announced shortly \n\n  \n\nRegistration:\n\n\n\nhttps://indico.egi.eu/event/5825/\n\n  \n\n 
URL:https://www.eosc-synergy.eu/event/workshop-on-national-policies-relevant-to-eosc-deployment/
ATTACH;FMTTYPE=image/png:https://www.eosc-synergy.eu/wp-content/uploads/EOSC-Synergy-updated-version-.png
END:VEVENT
BEGIN:VEVENT
DTSTART;VALUE=DATE:20220920
DTEND;VALUE=DATE:20220923
DTSTAMP:20260425T165306
CREATED:20220513T090300Z
LAST-MODIFIED:20220513T090300Z
UID:2478-1663632000-1663891199@www.eosc-synergy.eu
SUMMARY:EGI2022: Together for Tomorrow. Innovative Computing for Research
DESCRIPTION:Hosted by EGI and CESNET\, EGI2022 will take place on 20-22 of September 2022 in Prague. Co-located events on Monday September 19th and Friday September 23rd are possible. \nThe annual EGI conference is widely recognised as the venue that brings together like-minded professionals from the world of science and scientific computing. During EGI2022\, we will look towards the future – how will innovative computing services and solutions help to build a better research ecosystem? How can we work towards innovation? And what opportunities are there for new collaborations? \nTogether for Tomorrow – join us on a journey of turning ideas into reality\, recognising the fact that big ideas require collaboration.
URL:https://www.eosc-synergy.eu/event/egi2022-together-for-tomorrow-innovative-computing-for-research/
ATTACH;FMTTYPE=image/png:https://www.eosc-synergy.eu/wp-content/uploads/EGI-2022-Together-towards-Tomorrow-Full-Screen-v3-2.png
END:VEVENT
END:VCALENDAR